BEGIN:VCALENDAR
VERSION:2.0
PRODID:-//wp-events-plugin.com//7.2.2.1//EN
BEGIN:VEVENT
UID:3965@woodingdeanholycross.org.uk
DTSTART;TZID=Europe/London:20260226T103000
DTEND;TZID=Europe/London:20260226T120000
DTSTAMP:20240725T094658Z
URL:https://www.woodingdeanholycross.org.uk/events/say-aphasia-drop-in-202
 6-02-26/
SUMMARY:Say Aphasia Drop-In
DESCRIPTION:Say Aphasia is a charity that helps people with aphasia adapt t
 o their new way of life and regain their new way of life and regain their 
 independence.\n\nTo find out more about our drop-in group visit www.sayaph
 asia.org/drop-in-groups\n\nThe group meets every four weeks on a Thursday
LOCATION:Parish Church of the Holy Cross\, Woodingdean\, Downsway \, Woodin
 gdean\, BN2 6BD\, United Kingdom
X-APPLE-STRUCTURED-LOCATION;VALUE=URI;X-ADDRESS=Downsway \, Woodingdean\, B
 N2 6BD\, United Kingdom;X-APPLE-RADIUS=100;X-TITLE=Parish Church of the Ho
 ly Cross\, Woodingdean:geo:0,0
END:VEVENT
BEGIN:VTIMEZONE
TZID:Europe/London
X-LIC-LOCATION:Europe/London
BEGIN:STANDARD
DTSTART:20251026T010000
TZOFFSETFROM:+0100
TZOFFSETTO:+0000
TZNAME:GMT
END:STANDARD
END:VTIMEZONE
END:VCALENDAR