BEGIN:VCALENDAR
VERSION:2.0
PRODID:-//wp-events-plugin.com//7.2.2.1//EN
BEGIN:VEVENT
UID:6984@woodingdeanholycross.org.uk
DTSTART;TZID=Europe/London:20251027T103000
DTEND;TZID=Europe/London:20251027T123000
DTSTAMP:20250804T094446Z
URL:https://www.woodingdeanholycross.org.uk/events/modern-history-class-20
 25-10-27/
SUMMARY:Modern History Class
DESCRIPTION:Early Twentieth Century Britain and WWI Home Front (1900-1918)\
 n\n8 weeks Mondays 10.30am-12.20pm start 22 September\n\n£75 Cheque payab
 le to “Ms S Tobias” stating your name\, address\, telephone and e-mail
 . Post or deliver: Ms S Tobias\, C/o Fleur Butler\, Church of the Holy Cro
 ss\, Downsway\, Woodingdean BN2 6ND.
LOCATION:Parish Church of the Holy Cross\, Woodingdean\, Downsway \, Woodin
 gdean\, BN2 6BD\, United Kingdom
X-APPLE-STRUCTURED-LOCATION;VALUE=URI;X-ADDRESS=Downsway \, Woodingdean\, B
 N2 6BD\, United Kingdom;X-APPLE-RADIUS=100;X-TITLE=Parish Church of the Ho
 ly Cross\, Woodingdean:geo:0,0
END:VEVENT
BEGIN:VTIMEZONE
TZID:Europe/London
X-LIC-LOCATION:Europe/London
BEGIN:STANDARD
DTSTART:20251026T010000
TZOFFSETFROM:+0100
TZOFFSETTO:+0000
TZNAME:GMT
END:STANDARD
END:VTIMEZONE
END:VCALENDAR